BEGIN:VCALENDAR
VERSION:2.0
PRODID:-//Intand Corporation//Tandem//EN
METHOD:PUBLISH
BEGIN:VEVENT
DTSTAMP:20260425T104619Z
DTSTART:20120803T130000Z
DTEND:20120803T203000Z
TRANSP:TRANSPARENT
PRIORITY:0
SUMMARY:HS Pre-Band Camp 9-4:30
LOCATION:HS Band Room
DESCRIPTION:Groups:\nHS Band\n\nSchools:\nHigh School (IHHS)\n\nLocation:\
 nHS Band Room\n\n
URL;VALUE=URI:http://indianhill.tandem.co/index.php?type=view&action=event
 &id=10631
CREATED:20111215T203857Z
LAST-MODIFIED:20120321T160024Z
UID:event-10631-indianhill@intand.com
END:VEVENT
END:VCALENDAR
