BEGIN:VCALENDAR
VERSION:2.0
PRODID:-//Intand Corporation//Tandem//EN
METHOD:PUBLISH
BEGIN:VEVENT
DTSTAMP:20260425T104558Z
DTSTART;VALUE=DATE:20130315
DTEND;VALUE=DATE:20130316
TRANSP:TRANSPARENT
PRIORITY:0
SUMMARY:Ohio Graduation Test
LOCATION:High School (IHHS)
DESCRIPTION:Groups:\nGrade 10\n\nSchools:\nHigh School (IHHS)\n\nLocation:
 \nHigh School (IHHS)\n\n
URL;VALUE=URI:http://indianhill.tandem.co/index.php?type=view&action=event
 &id=10952
CREATED:20111215T203901Z
LAST-MODIFIED:20111215T203901Z
UID:event-10952-indianhill@intand.com
END:VEVENT
END:VCALENDAR
