BEGIN:VCALENDAR
VERSION:2.0
PRODID:-//Intand Corporation//Tandem//EN
METHOD:PUBLISH
BEGIN:VEVENT
DTSTAMP:20260425T104620Z
DTSTART;VALUE=DATE:20120914
DTEND;VALUE=DATE:20120915
TRANSP:TRANSPARENT
PRIORITY:0
SUMMARY:HS Registration Deadline for 10/6 SAT
LOCATION:HS
DESCRIPTION:Groups:\nHS Students\n\nSchools:\nHigh School (IHHS)\n\nLocati
 on:\nHS\n\n
URL;VALUE=URI:http://indianhill.tandem.co/index.php?type=view&action=event
 &id=11132
CREATED:20111216T160909Z
LAST-MODIFIED:20120501T205507Z
UID:event-11132-indianhill@intand.com
END:VEVENT
END:VCALENDAR
