BEGIN:VCALENDAR
VERSION:2.0
PRODID:-//Intand Corporation//Tandem//EN
METHOD:PUBLISH
BEGIN:VEVENT
DTSTAMP:20260425T110556Z
DTSTART:20121024T183000Z
DTEND:20121024T200000Z
TRANSP:TRANSPARENT
PRIORITY:0
SUMMARY:HS Jacket Sales
LOCATION:HS Lobby
DESCRIPTION:Groups:\nHS Students\n\nSchools:\nHigh School (IHHS)\n\nLocati
 on:\nHS Lobby\n\n
URL;VALUE=URI:http://indianhill.tandem.co/index.php?type=view&action=event
 &id=13748
CREATED:20121017T160924Z
LAST-MODIFIED:20121017T160924Z
UID:event_request-13748-indianhill@intand.com
END:VEVENT
END:VCALENDAR
