BEGIN:VCALENDAR
VERSION:2.0
PRODID:-//Intand Corporation//Tandem//EN
METHOD:PUBLISH
BEGIN:VEVENT
DTSTAMP:20260425T104330Z
DTSTART:20121128T200000Z
DTEND:20121128T223000Z
TRANSP:TRANSPARENT
PRIORITY:0
SUMMARY:HS POW WOW Dance Rehearsals
LOCATION:HS Auditorium
DESCRIPTION:Groups:\nHS Drama\n\nSchools:\nHigh School (IHHS)\n\nLocation:
 \nHS Auditorium\n\n
URL;VALUE=URI:http://indianhill.tandem.co/index.php?type=view&action=event
 &id=14082
CREATED:20121119T172310Z
LAST-MODIFIED:20121119T172310Z
UID:event_request-14082-indianhill@intand.com
END:VEVENT
END:VCALENDAR
