BEGIN:VCALENDAR
VERSION:2.0
PRODID:-//Intand Corporation//Tandem//EN
METHOD:PUBLISH
BEGIN:VEVENT
DTSTAMP:20260425T105644Z
DTSTART:20141022T223000Z
DTEND:20141022T233000Z
TRANSP:TRANSPARENT
PRIORITY:0
SUMMARY:HS College Night for Juniors
LOCATION:HS Library\, HS MP Room\, HS Choir Room (Lg)
DESCRIPTION:Setup: 6:00 pm\nBreakdown: 8:00 pm\n\nGroups:\nGrade 11 Parent
 s\nGuidance\nGrade 11\n\nSchools:\nHigh School (IHHS)\n\nLocations:\nHS Li
 brary\nHS MP Room\nHS Choir Room (Lg)\n\nContacts:\nNollis Cottrell\n\n
URL;VALUE=URI:http://indianhill.tandem.co/index.php?type=view&action=event
 &id=21563
CREATED:20140313T121015Z
LAST-MODIFIED:20141014T165033Z
UID:event-21563-indianhill@intand.com
END:VEVENT
END:VCALENDAR
