BEGIN:VCALENDAR
VERSION:2.0
PRODID:-//Intand Corporation//Tandem//EN
METHOD:PUBLISH
BEGIN:VEVENT
DTSTAMP:20260425T105346Z
DTSTART:20141008T184500Z
DTEND:20141008T210000Z
TRANSP:TRANSPARENT
PRIORITY:0
SUMMARY:403b Informational Session
LOCATION:HS Cafeteria\, HS MP Room\, High School (IHHS)
DESCRIPTION:Groups:\nES Faculty\nHS Faculty\nMS Faculty\nPS Faculty\n\nSch
 ools:\nElementary School (IHES)\nHigh School (IHHS)\nMiddle School (IHMS)\
 nPrimary School (IHPS)\n\nLocations:\nHS Cafeteria\nHS MP Room\nHigh Schoo
 l (IHHS)\n\n
URL;VALUE=URI:http://indianhill.tandem.co/index.php?type=view&action=event
 &id=23273
CREATED:20140819T191036Z
LAST-MODIFIED:20140822T153537Z
UID:event-23273-indianhill@intand.com
END:VEVENT
END:VCALENDAR
