BEGIN:VCALENDAR
VERSION:2.0
PRODID:-//Intand Corporation//Tandem//EN
METHOD:PUBLISH
BEGIN:VEVENT
DTSTAMP:20260425T104527Z
DTSTART:20140925T184500Z
DTEND:20140925T230000Z
TRANSP:TRANSPARENT
PRIORITY:0
SUMMARY:HS IHPA Academy Private lessons
LOCATION:HS Classroom(s)
DESCRIPTION:Room 254 closet\n\nGroups:\nCAPA\n\nSchools:\nHigh School (IHH
 S)\n\nLocation:\nHS Classroom(s)\n\nContacts:\nLisa Harris\n\n
URL;VALUE=URI:http://indianhill.tandem.co/index.php?type=view&action=event
 &id=23541
CREATED:20140829T160811Z
LAST-MODIFIED:20140829T160811Z
UID:event-23541-indianhill@intand.com
END:VEVENT
END:VCALENDAR
