BEGIN:VCALENDAR
VERSION:2.0
PRODID:-//Intand Corporation//Tandem//EN
METHOD:PUBLISH
BEGIN:VEVENT
DTSTAMP:20260425T104523Z
DTSTART:20141202T194500Z
DTEND:20141203T020000Z
TRANSP:TRANSPARENT
PRIORITY:0
SUMMARY:HS IHPA Academy Private Lessons
LOCATION:HS Classroom(s)
DESCRIPTION:Room 254 Closet\n\nGroups:\nCAPA\n\nSchools:\nHigh School (IHH
 S)\n\nLocation:\nHS Classroom(s)\n\nContacts:\nLisa Harris\n\nRoom 254 clo
 set\n\n
URL;VALUE=URI:http://indianhill.tandem.co/index.php?type=view&action=event
 &id=24613
CREATED:20141119T184555Z
LAST-MODIFIED:20141121T191738Z
UID:event-24613-indianhill@intand.com
END:VEVENT
END:VCALENDAR
