BEGIN:VCALENDAR
VERSION:2.0
PRODID:-//Intand Corporation//Tandem//EN
METHOD:PUBLISH
BEGIN:VEVENT
DTSTAMP:20260425T104330Z
DTSTART:20150105T193000Z
DTEND:20150105T203000Z
TRANSP:TRANSPARENT
PRIORITY:0
SUMMARY:Girls Varstiy PreGame Meals
LOCATION:Commons Lobby\, High School (IHHS)
DESCRIPTION:Schools:\nHigh School (IHHS)\nAthletics\n\nLocations:\nCommons
  Lobby\nHigh School (IHHS)\n\n
URL;VALUE=URI:http://indianhill.tandem.co/index.php?type=view&action=event
 &id=24768
CREATED:20141203T173601Z
LAST-MODIFIED:20141203T173601Z
UID:event-24768-indianhill@intand.com
END:VEVENT
END:VCALENDAR
