BEGIN:VCALENDAR
VERSION:2.0
PRODID:-//Intand Corporation//Tandem//EN
METHOD:PUBLISH
BEGIN:VEVENT
DTSTAMP:20260425T110545Z
DTSTART:20141219T190000Z
DTEND:20141219T203000Z
TRANSP:TRANSPARENT
PRIORITY:0
SUMMARY:Freshman Basketball PreGame
LOCATION:Commons Lobby\, Athletics
DESCRIPTION:Schools:\nAthletics\nHigh School (IHHS)\n\nLocations:\nCommons
  Lobby\nAthletics\n\n
URL;VALUE=URI:http://indianhill.tandem.co/index.php?type=view&action=event
 &id=24861
CREATED:20141211T154739Z
LAST-MODIFIED:20141211T154739Z
UID:event-24861-indianhill@intand.com
END:VEVENT
END:VCALENDAR
