BEGIN:VCALENDAR
VERSION:2.0
PRODID:-//Intand Corporation//Tandem//EN
METHOD:PUBLISH
BEGIN:VEVENT
DTSTAMP:20260425T104603Z
DTSTART:20151022T233000Z
DTEND:20151023T013000Z
TRANSP:TRANSPARENT
PRIORITY:0
SUMMARY:HS FALL Play
LOCATION:HS Auditorium
DESCRIPTION:Setup: 3:00 pm\nBreakdown: 11:00 pm\n\nGroups:\nOpen to Public
 \nHS Drama\n\nSchools:\nHigh School (IHHS)\n\nLocation:\nHS Auditorium\n\n
 Kelly Cuzzort-Boster setting up lobby\n\n
URL;VALUE=URI:http://indianhill.tandem.co/index.php?type=view&action=event
 &id=26129
CREATED:20150218T202636Z
LAST-MODIFIED:20151013T153814Z
UID:event-26129-indianhill@intand.com
END:VEVENT
END:VCALENDAR
