BEGIN:VCALENDAR
VERSION:2.0
PRODID:-//Intand Corporation//Tandem//EN
METHOD:PUBLISH
BEGIN:VEVENT
DTSTAMP:20260425T104322Z
DTSTART:20151103T000000Z
DTEND:20151103T020000Z
TRANSP:TRANSPARENT
PRIORITY:0
SUMMARY:HS NHS Inductions
LOCATION:HS Auditorium\, HS Auditorium Lobby
DESCRIPTION:Setup: 6:00 pm\nBreakdown: 9:30 pm\n\nGroups:\nHS Students\nHS
  Parents\n\nSchools:\nHigh School (IHHS)\n\nLocations:\nHS Auditorium\nHS 
 Auditorium Lobby\n\n
URL;VALUE=URI:http://indianhill.tandem.co/index.php?type=view&action=event
 &id=26151
CREATED:20150218T202638Z
LAST-MODIFIED:20151012T131321Z
UID:event-26151-indianhill@intand.com
END:VEVENT
END:VCALENDAR
