BEGIN:VCALENDAR
VERSION:2.0
PRODID:-//Intand Corporation//Tandem//EN
METHOD:PUBLISH
BEGIN:VEVENT
DTSTAMP:20260425T110555Z
DTSTART;VALUE=DATE:20151027
DTEND;VALUE=DATE:20151028
TRANSP:TRANSPARENT
PRIORITY:0
SUMMARY:ES Book Fair
LOCATION:ES MP Room
DESCRIPTION:Groups:\nES Students\n\nSchools:\nElementary School (IHES)\n\n
 Location:\nES MP Room\n\n
URL;VALUE=URI:http://indianhill.tandem.co/index.php?type=view&action=event
 &id=26153
CREATED:20150218T202639Z
LAST-MODIFIED:20150407T194037Z
UID:event-26153-indianhill@intand.com
END:VEVENT
END:VCALENDAR
