BEGIN:VCALENDAR
VERSION:2.0
PRODID:-//Intand Corporation//Tandem//EN
METHOD:PUBLISH
BEGIN:VEVENT
DTSTAMP:20260425T104334Z
DTSTART;VALUE=DATE:20151106
DTEND;VALUE=DATE:20151107
TRANSP:TRANSPARENT
PRIORITY:0
SUMMARY:HS Registration Deadline for 12/12 ACT
LOCATION:HS
DESCRIPTION:Groups:\nHS Students\n\nSchools:\nHigh School (IHHS)\n\nLocati
 on:\nHS\n\n
URL;VALUE=URI:http://indianhill.tandem.co/index.php?type=view&action=event
 &id=26164
CREATED:20150218T202640Z
LAST-MODIFIED:20150407T202137Z
UID:event-26164-indianhill@intand.com
END:VEVENT
END:VCALENDAR
