BEGIN:VCALENDAR
VERSION:2.0
PRODID:-//Intand Corporation//Tandem//EN
METHOD:PUBLISH
BEGIN:VEVENT
DTSTAMP:20260425T110448Z
DTSTART:20151216T230000Z
DTEND:20151217T010000Z
TRANSP:TRANSPARENT
PRIORITY:0
SUMMARY:PS Primary Players Holiday Happening at HS
LOCATION:HS Auditorium
DESCRIPTION:Setup: 5:30 pm\nBreakdown: 9:00 pm\n\nGroups:\nPS Primary Play
 ers\nGrade 02\n\nSchools:\nHigh School (IHHS)\nPrimary School (IHPS)\n\nLo
 cation:\nHS Auditorium\n\nContacts:\nBarb Watson\n\n
URL;VALUE=URI:http://indianhill.tandem.co/index.php?type=view&action=event
 &id=26235
CREATED:20150218T202648Z
LAST-MODIFIED:20150902T183745Z
UID:event-26235-indianhill@intand.com
END:VEVENT
END:VCALENDAR
