BEGIN:VCALENDAR
VERSION:2.0
PRODID:-//Intand Corporation//Tandem//EN
METHOD:PUBLISH
BEGIN:VEVENT
DTSTAMP:20260425T104621Z
DTSTART:20160427T163000Z
DTEND:20160427T180000Z
TRANSP:TRANSPARENT
PRIORITY:0
SUMMARY:Retirees' Luncheon
LOCATION:HS Auditorium Lobby
DESCRIPTION:Groups:\nAdministration\nBoard of Education\nRetirees\n\nSchoo
 ls:\nBoard Office\nElementary School (IHES)\nHigh School (IHHS)\nMiddle Sc
 hool (IHMS)\nPrimary School (IHPS)\n\nLocation:\nHS Auditorium Lobby\n\nCo
 ntacts:\nDebbie Roesel\n\nNo risers needed\; no piano to be moved.  Electr
 ic piano to be used.\n\n
URL;VALUE=URI:http://indianhill.tandem.co/index.php?type=view&action=event
 &id=26345
CREATED:20150218T202701Z
LAST-MODIFIED:20160426T200301Z
UID:event-26345-indianhill@intand.com
END:VEVENT
END:VCALENDAR
