BEGIN:VCALENDAR
VERSION:2.0
PRODID:-//Intand Corporation//Tandem//EN
METHOD:PUBLISH
BEGIN:VEVENT
DTSTAMP:20260425T104513Z
DTSTART:20151022T184500Z
DTEND:20151022T230000Z
TRANSP:TRANSPARENT
PRIORITY:0
SUMMARY:HS IHPA Private Lessons
LOCATION:HS 254 Closet\, HS Band Room\, HS C5
DESCRIPTION:Groups:\nCAPA\n\nSchools:\nHigh School (IHHS)\n\nLocations:\nH
 S 254 Closet\nHS Band Room\nHS C5\n\n254 Closet & C5 until 7:00 pm\; Band 
 Room until 3:45 pm.\n\n
URL;VALUE=URI:http://indianhill.tandem.co/index.php?type=view&action=event
 &id=27752
CREATED:20150828T172028Z
LAST-MODIFIED:20150828T172028Z
UID:event-27752-indianhill@intand.com
END:VEVENT
END:VCALENDAR
