BEGIN:VCALENDAR
VERSION:2.0
PRODID:-//Intand Corporation//Tandem//EN
METHOD:PUBLISH
BEGIN:VEVENT
DTSTAMP:20260425T104622Z
DTSTART:20151104T233000Z
DTEND:20151105T010000Z
TRANSP:TRANSPARENT
PRIORITY:0
SUMMARY:District Mental Health Series Speaker
LOCATION:HS Library
DESCRIPTION:Setup: 6:00 pm\nBreakdown: 8:30 pm\n\nGroups:\nDT Parents\n\nS
 chools:\nBoard Office\nElementary School (IHES)\nHigh School (IHHS)\nMiddl
 e School (IHMS)\nPrimary School (IHPS)\n\nLocation:\nHS Library\n\n
URL;VALUE=URI:http://indianhill.tandem.co/index.php?type=view&action=event
 &id=28328
CREATED:20151022T180316Z
LAST-MODIFIED:20151022T192528Z
UID:event-28328-indianhill@intand.com
END:VEVENT
END:VCALENDAR
