BEGIN:VCALENDAR
VERSION:2.0
PRODID:-//Intand Corporation//Tandem//EN
METHOD:PUBLISH
BEGIN:VEVENT
DTSTAMP:20260425T104558Z
DTSTART:20151130T193000Z
DTEND:20151130T210000Z
TRANSP:TRANSPARENT
PRIORITY:0
SUMMARY:Girls JV/Varsity Basketball Meal
LOCATION:Commons Lobby
DESCRIPTION:Groups:\nHS Athletes\n\nSchools:\nHigh School (IHHS)\nAthletic
 s\n\nLocation:\nCommons Lobby\n\n
URL;VALUE=URI:http://indianhill.tandem.co/index.php?type=view&action=event
 &id=28787
CREATED:20151116T191306Z
LAST-MODIFIED:20151116T191306Z
UID:event-28787-indianhill@intand.com
END:VEVENT
END:VCALENDAR
