BEGIN:VCALENDAR
VERSION:2.0
PRODID:-//Intand Corporation//Tandem//EN
METHOD:PUBLISH
BEGIN:VEVENT
DTSTAMP:20260425T110421Z
DTSTART:20160108T200000Z
DTEND:20160109T000000Z
TRANSP:TRANSPARENT
PRIORITY:0
SUMMARY:MS Power of the Pen  Prep for Tournament
LOCATION:MS Office - MPR\, MS Media Center\, MS Gym\, MS Cafeteria\, MS 8t
 h Grade Classrooms\, MS 7th Grade Classrooms\, HS Auditorium Lobby\, HS Au
 ditorium
DESCRIPTION:Hosting 15 schools\n\nSetup: 2:55 pm\nBreakdown: 7:05 pm\n\nGr
 oups:\nMS Parents\nMS Students\n\nSchools:\nAthletics\nHigh School (IHHS)\
 nMiddle School (IHMS)\n\nLocations:\nMS Office - MPR\nMS Media Center\nMS 
 Gym\nMS Cafeteria\nMS 8th Grade Classrooms\nMS 7th Grade Classrooms\nHS Au
 ditorium Lobby\nHS Auditorium\n\nContacts:\nToni Roark\nKim Given\n\nPTO v
 olunteers need access for preparation for Sat.  Please have set up Fri nig
 ht for 6:00 am start Sat.\n\n
URL;VALUE=URI:http://indianhill.tandem.co/index.php?type=view&action=event
 &id=29235
CREATED:20160106T184059Z
LAST-MODIFIED:20160106T184140Z
UID:event-29235-indianhill@intand.com
END:VEVENT
END:VCALENDAR
