BEGIN:VCALENDAR
VERSION:2.0
PRODID:-//Intand Corporation//Tandem//EN
METHOD:PUBLISH
BEGIN:VEVENT
DTSTAMP:20260425T110244Z
DTSTART:20170211T140000Z
DTEND:20170211T220000Z
TRANSP:TRANSPARENT
PRIORITY:0
SUMMARY:Overtures Semi-Final Round Competition
LOCATION:AWAY--
DESCRIPTION:Groups:\nOpen to Public\n\nSchools:\nPrimary School (IHPS)\nMi
 ddle School (IHMS)\nHigh School (IHHS)\nElementary School (IHES)\nBoard Of
 fice\n\nLocation:\nAWAY--\n\n
URL;VALUE=URI:http://indianhill.tandem.co/index.php?type=view&action=event
 &id=29901
CREATED:20160222T213958Z
LAST-MODIFIED:20160512T185035Z
UID:event-29901-indianhill@intand.com
END:VEVENT
END:VCALENDAR
