BEGIN:VCALENDAR
VERSION:2.0
PRODID:-//Intand Corporation//Tandem//EN
METHOD:PUBLISH
BEGIN:VEVENT
DTSTAMP:20260425T104439Z
DTSTART:20160623T200000Z
DTEND:20160624T030000Z
TRANSP:TRANSPARENT
PRIORITY:0
SUMMARY:HS IHPA Performance  
LOCATION:HS Auditorium\, HS Makeup Room\, HS Auditorium Lobby
DESCRIPTION:Groups:\nCAPA\n\nSchools:\nHigh School (IHHS)\n\nLocations:\nH
 S Auditorium\nHS Makeup Room\nHS Auditorium Lobby\n\nContacts:\nMonica Hic
 key\n\n
URL;VALUE=URI:http://indianhill.tandem.co/index.php?type=view&action=event
 &id=30496
CREATED:20160318T171142Z
LAST-MODIFIED:20160421T153337Z
UID:event-30496-indianhill@intand.com
END:VEVENT
END:VCALENDAR
