BEGIN:VCALENDAR
VERSION:2.0
PRODID:-//Intand Corporation//Tandem//EN
METHOD:PUBLISH
BEGIN:VEVENT
DTSTAMP:20260425T124044Z
DTSTART:20161210T230000Z
DTEND:20161211T045500Z
TRANSP:TRANSPARENT
PRIORITY:0
SUMMARY:HS Parking Lot use
LOCATION:HS Parking Lot
DESCRIPTION:Richardson family holiday party overflow parking\n\nGroups:\nC
 ommunity\n\nSchools:\nHigh School (IHHS)\n\nLocation:\nHS Parking Lot\n\nC
 ontacts:\nDebbie Roesel\n\nFacilities form and insurance certificate in pl
 ace.\n\n
URL;VALUE=URI:http://indianhill.tandem.co/index.php?type=view&action=event
 &id=30994
CREATED:20160428T171530Z
LAST-MODIFIED:20160428T171530Z
UID:event-30994-indianhill@intand.com
END:VEVENT
END:VCALENDAR
