BEGIN:VCALENDAR
VERSION:2.0
PRODID:-//Intand Corporation//Tandem//EN
METHOD:PUBLISH
BEGIN:VEVENT
DTSTAMP:20260425T105108Z
DTSTART:20161020T185000Z
DTEND:20161020T230000Z
TRANSP:TRANSPARENT
PRIORITY:0
SUMMARY:HS IHPA Private Lessons
LOCATION:HS 254 Closet
DESCRIPTION:Groups:\nCAPA\n\nSchools:\nHigh School (IHHS)\n\nLocation:\nHS
  254 Closet\n\nContacts:\nMonica Hickey\n\n
URL;VALUE=URI:http://indianhill.tandem.co/index.php?type=view&action=event
 &id=31909
CREATED:20160825T175503Z
LAST-MODIFIED:20160825T175503Z
UID:event-31909-indianhill@intand.com
END:VEVENT
END:VCALENDAR
