BEGIN:VCALENDAR
VERSION:2.0
PRODID:-//Intand Corporation//Tandem//EN
METHOD:PUBLISH
BEGIN:VEVENT
DTSTAMP:20260425T110247Z
DTSTART:20160913T190000Z
DTEND:20160914T010000Z
TRANSP:TRANSPARENT
PRIORITY:0
SUMMARY:HS Volleyball Matches
LOCATION:HS Gym
DESCRIPTION:Hosting a Volley for the Cure event\n\nGroups:\nHS Athletes\n\
 nSchools:\nAthletics\nHigh School (IHHS)\n\nLocation:\nHS Gym\n\nStephanie
  Kennebeck 513-543-9853\; says they will figure out setup location themsel
 ves.\n\n
URL;VALUE=URI:http://indianhill.tandem.co/index.php?type=view&action=event
 &id=32017
CREATED:20160912T184231Z
LAST-MODIFIED:20160912T184231Z
UID:event-32017-indianhill@intand.com
END:VEVENT
END:VCALENDAR
