BEGIN:VCALENDAR
VERSION:2.0
PRODID:-//Intand Corporation//Tandem//EN
METHOD:PUBLISH
BEGIN:VEVENT
DTSTAMP:20260425T104522Z
DTSTART:20161205T200000Z
DTEND:20161205T220000Z
TRANSP:TRANSPARENT
PRIORITY:0
SUMMARY:HS Drivers' Training Class
LOCATION:HS Classroom(s)
DESCRIPTION:AAA Club Alliance Inc.  Michael Belcoure\n\nGroups:\nHS Studen
 ts\n\nSchools:\nHigh School (IHHS)\n\nLocation:\nHS Classroom(s)\n\n
URL;VALUE=URI:http://indianhill.tandem.co/index.php?type=view&action=event
 &id=32571
CREATED:20161130T171317Z
LAST-MODIFIED:20161130T171317Z
UID:event-32571-indianhill@intand.com
END:VEVENT
END:VCALENDAR
