BEGIN:VCALENDAR
VERSION:2.0
PRODID:-//Intand Corporation//Tandem//EN
METHOD:PUBLISH
BEGIN:VEVENT
DTSTAMP:20260425T104623Z
DTSTART:20170108T170000Z
DTEND:20170108T230000Z
TRANSP:TRANSPARENT
PRIORITY:0
SUMMARY:MS Rec Basketball Games
LOCATION:MS Gym
DESCRIPTION:Groups:\nES Indian Hill Recreation Commission Basketball\n\nSc
 hools:\nAthletics\nElementary School (IHES)\nHigh School (IHHS)\nMiddle Sc
 hool (IHMS)\nPrimary School (IHPS)\n\nLocation:\nMS Gym\n\nContacts:\nJack
  Alley\nBrian  Shaw\n\n
URL;VALUE=URI:http://indianhill.tandem.co/index.php?type=view&action=event
 &id=32782
CREATED:20161219T173123Z
LAST-MODIFIED:20161219T173123Z
UID:event-32782-indianhill@intand.com
END:VEVENT
END:VCALENDAR
