BEGIN:VCALENDAR
VERSION:2.0
PRODID:-//Intand Corporation//Tandem//EN
METHOD:PUBLISH
BEGIN:VEVENT
DTSTAMP:20260425T104514Z
DTSTART:20180403T220000Z
DTEND:20180403T233000Z
TRANSP:TRANSPARENT
PRIORITY:0
SUMMARY:IH Foundation Meeting
LOCATION:AWAY--
DESCRIPTION:Groups:\nIH Foundation\n\nSchools:\nElementary School (IHES)\n
 High School (IHHS)\nMiddle School (IHMS)\nPrimary School (IHPS)\n\nLocatio
 n:\nAWAY--\n\n
URL;VALUE=URI:http://indianhill.tandem.co/index.php?type=view&action=event
 &id=34008
CREATED:20170227T210205Z
LAST-MODIFIED:20170227T210205Z
UID:event-34008-indianhill@intand.com
END:VEVENT
END:VCALENDAR
