BEGIN:VCALENDAR
VERSION:2.0
PRODID:-//Intand Corporation//Tandem//EN
METHOD:PUBLISH
BEGIN:VEVENT
DTSTAMP:20260425T104528Z
DTSTART;VALUE=DATE:20180520
DTEND;VALUE=DATE:20180521
TRANSP:TRANSPARENT
PRIORITY:0
SUMMARY:Senior Projects
LOCATION:AWAY--
DESCRIPTION:Groups:\nGrade 12\n\nSchools:\nPrimary School (IHPS)\nMiddle S
 chool (IHMS)\nHigh School (IHHS)\nElementary School (IHES)\nBoard Office\n
 Athletics\n\nLocation:\nAWAY--\n\n
URL;VALUE=URI:http://indianhill.tandem.co/index.php?type=view&action=event
 &id=34897
CREATED:20170531T144015Z
LAST-MODIFIED:20170531T144015Z
UID:event-34897-indianhill@intand.com
END:VEVENT
END:VCALENDAR
