BEGIN:VCALENDAR
VERSION:2.0
PRODID:-//Intand Corporation//Tandem//EN
METHOD:PUBLISH
BEGIN:VEVENT
DTSTAMP:20260425T105109Z
DTSTART:20180319T220000Z
DTEND:20180319T233000Z
TRANSP:TRANSPARENT
PRIORITY:0
SUMMARY:Dr. Melissa Stewart's Book Club
LOCATION:HS Library
DESCRIPTION:Groups:\nDT Parents\n\nSchools:\nPrimary School (IHPS)\nMiddle
  School (IHMS)\nElementary School (IHES)\nBoard Office\nHigh School (IHHS)
 \n\nLocation:\nHS Library\n\n
URL;VALUE=URI:http://indianhill.tandem.co/index.php?type=view&action=event
 &id=36764
CREATED:20180202T141717Z
LAST-MODIFIED:20180202T141717Z
UID:event-36764-indianhill@intand.com
END:VEVENT
END:VCALENDAR
