BEGIN:VCALENDAR
VERSION:2.0
PRODID:-//Intand Corporation//Tandem//EN
METHOD:PUBLISH
BEGIN:VEVENT
DTSTAMP:20260425T105338Z
DTSTART;VALUE=DATE:20181024
DTEND;VALUE=DATE:20181025
TRANSP:TRANSPARENT
PRIORITY:0
SUMMARY:Red Ribbon Week
LOCATION:ES\, PS\, HS\, MS
DESCRIPTION:Groups:\nES Students\nHS Students\nMS Students\nPS Students\n\
 nSchools:\nPrimary School (IHPS)\nHigh School (IHHS)\nElementary School (I
 HES)\nMiddle School (IHMS)\n\nLocations:\nES\nPS\nHS\nMS\n\n
URL;VALUE=URI:http://indianhill.tandem.co/index.php?type=view&action=event
 &id=37322
CREATED:20180322T002332Z
LAST-MODIFIED:20180322T002332Z
UID:event-37322-indianhill@intand.com
END:VEVENT
END:VCALENDAR
