BEGIN:VCALENDAR
VERSION:2.0
PRODID:-//Intand Corporation//Tandem//EN
METHOD:PUBLISH
BEGIN:VEVENT
DTSTAMP:20260425T105501Z
DTSTART;VALUE=DATE:20181211
DTEND;VALUE=DATE:20181212
TRANSP:TRANSPARENT
PRIORITY:0
SUMMARY:HS Art Show Semester 1
LOCATION:HS Lobby
DESCRIPTION:Groups:\nHS Students\n\nSchools:\nHigh School (IHHS)\n\nLocati
 on:\nHS Lobby\n\n
URL;VALUE=URI:http://indianhill.tandem.co/index.php?type=view&action=event
 &id=37386
CREATED:20180322T002333Z
LAST-MODIFIED:20180322T002333Z
UID:event-37386-indianhill@intand.com
END:VEVENT
END:VCALENDAR
