BEGIN:VCALENDAR
VERSION:2.0
PRODID:-//Intand Corporation//Tandem//EN
METHOD:PUBLISH
BEGIN:VEVENT
DTSTAMP:20260425T110246Z
DTSTART:20190529T200000Z
DTEND:20190529T230000Z
TRANSP:TRANSPARENT
PRIORITY:0
SUMMARY:Community Viewing of Senior Projects
LOCATION:HS
DESCRIPTION:Groups:\nOpen to Public\n\nSchools:\nHigh School (IHHS)\n\nLoc
 ation:\nHS\n\n
URL;VALUE=URI:http://indianhill.tandem.co/index.php?type=view&action=event
 &id=37571
CREATED:20180322T002335Z
LAST-MODIFIED:20190509T191846Z
UID:event-37571-indianhill@intand.com
END:VEVENT
END:VCALENDAR
