BEGIN:VCALENDAR
VERSION:2.0
PRODID:-//Intand Corporation//Tandem//EN
METHOD:PUBLISH
BEGIN:VEVENT
DTSTAMP:20260425T104526Z
DTSTART:20181126T200000Z
DTEND:20181126T230000Z
TRANSP:TRANSPARENT
PRIORITY:0
SUMMARY:Pow Wow Auditions
LOCATION:HS Choir Room (Lg)
DESCRIPTION:Groups:\nHS Drama\n\nSchools:\nHigh School (IHHS)\n\nLocation:
 \nHS Choir Room (Lg)\n\n
URL;VALUE=URI:http://indianhill.tandem.co/index.php?type=view&action=event
 &id=37685
CREATED:20180403T160901Z
LAST-MODIFIED:20180403T160901Z
UID:event-37685-indianhill@intand.com
END:VEVENT
END:VCALENDAR
