BEGIN:VCALENDAR
VERSION:2.0
PRODID:-//Intand Corporation//Tandem//EN
METHOD:PUBLISH
BEGIN:VEVENT
DTSTAMP:20260425T105027Z
DTSTART:20180511T200000Z
DTEND:20180511T233000Z
TRANSP:TRANSPARENT
PRIORITY:0
SUMMARY:HS CAPA Summer Camp Auditions
LOCATION:HS Choir Room (Lg)
DESCRIPTION:Groups:\nCAPA\n\nSchools:\nHigh School (IHHS)\n\nLocation:\nHS
  Choir Room (Lg)\n\nContacts:\nKimberly Buczek \n\n
URL;VALUE=URI:http://indianhill.tandem.co/index.php?type=view&action=event
 &id=38005
CREATED:20180426T182856Z
LAST-MODIFIED:20180426T182856Z
UID:event-38005-indianhill@intand.com
END:VEVENT
END:VCALENDAR
