BEGIN:VCALENDAR
VERSION:2.0
PRODID:-//Intand Corporation//Tandem//EN
METHOD:PUBLISH
BEGIN:VEVENT
DTSTAMP:20260425T104357Z
DTSTART:20181108T203000Z
DTEND:20181109T013000Z
TRANSP:TRANSPARENT
PRIORITY:0
SUMMARY:MS Fall Play – Rehearsal Dinner setup for Students
LOCATION:Commons Lobby
DESCRIPTION:Groups:\nMS Drama\n\nSchools:\nMiddle School (IHMS)\nHigh Scho
 ol (IHHS)\n\nLocation:\nCommons Lobby\n\nContacts:\nKelly Kremer\n\n
URL;VALUE=URI:http://indianhill.tandem.co/index.php?type=view&action=event
 &id=40106
CREATED:20181031T155647Z
LAST-MODIFIED:20181031T155852Z
UID:event-40106-indianhill@intand.com
END:VEVENT
END:VCALENDAR
