BEGIN:VCALENDAR
VERSION:2.0
PRODID:-//Intand Corporation//Tandem//EN
METHOD:PUBLISH
BEGIN:VEVENT
DTSTAMP:20260425T104400Z
DTSTART:20181216T180000Z
DTEND:20181216T230000Z
TRANSP:TRANSPARENT
PRIORITY:0
SUMMARY:MS IH Recreation Commission Basketball Games
LOCATION:MS Gym
DESCRIPTION:Groups:\nES Indian Hill Recreation Commission Basketball\n\nSc
 hools:\nPrimary School (IHPS)\nMiddle School (IHMS)\nHigh School (IHHS)\nE
 lementary School (IHES)\nBoard Office\nAthletics\n\nLocation:\nMS Gym\n\nC
 ontacts:\nJack Alley\nBrian  Shaw\n\n
URL;VALUE=URI:http://indianhill.tandem.co/index.php?type=view&action=event
 &id=40433
CREATED:20181129T210631Z
LAST-MODIFIED:20181129T210631Z
UID:event-40433-indianhill@intand.com
END:VEVENT
END:VCALENDAR
