BEGIN:VCALENDAR
VERSION:2.0
PRODID:-//Intand Corporation//Tandem//EN
METHOD:PUBLISH
BEGIN:VEVENT
DTSTAMP:20260425T104323Z
DTSTART:20190306T000000Z
DTEND:20190306T021500Z
TRANSP:TRANSPARENT
PRIORITY:0
SUMMARY:MS Mr. Stephen Smith / Guest Speaker "A Wired Family"
LOCATION:HS Auditorium
DESCRIPTION:Groups:\nOpen to Public\n\nSchools:\nPrimary School (IHPS)\nMi
 ddle School (IHMS)\nHigh School (IHHS)\nElementary School (IHES)\nBoard Of
 fice\n\nLocation:\nHS Auditorium\n\nContacts:\nNick Carpenter\n\nGuest Spe
 aker Stephen Smith will present - "A Wired Family"\n\nProgram scheduled to
  begin in the IHHS Auditorium at 12:45 p.m. - 1:45 p.m. and will proceed t
 o IHES for continued presentation from 2:00 p.m. to 3:00 p.m. with return 
 to the IHHS Auditorium for a final presentation at 7:00 p.m.\n\n \n\n
URL;VALUE=URI:http://indianhill.tandem.co/index.php?type=view&action=event
 &id=40539
CREATED:20181211T153625Z
LAST-MODIFIED:20190110T135730Z
UID:event-40539-indianhill@intand.com
END:VEVENT
END:VCALENDAR
