BEGIN:VCALENDAR
VERSION:2.0
PRODID:-//Intand Corporation//Tandem//EN
METHOD:PUBLISH
BEGIN:VEVENT
DTSTAMP:20260425T104600Z
DTSTART:20191022T120000Z
DTEND:20191022T190000Z
TRANSP:TRANSPARENT
PRIORITY:0
SUMMARY:MS Book Fair
LOCATION:MS Office - MPR
DESCRIPTION:Schools:\nMiddle School (IHMS)\n\nLocation:\nMS Office - MPR\n
 \nMS Book Fair - Ms. Ely\n\n
URL;VALUE=URI:http://indianhill.tandem.co/index.php?type=view&action=event
 &id=41554
CREATED:20190416T133748Z
LAST-MODIFIED:20190416T133811Z
UID:event-41554-indianhill@intand.com
END:VEVENT
END:VCALENDAR
