BEGIN:VCALENDAR
VERSION:2.0
PRODID:-//Intand Corporation//Tandem//EN
METHOD:PUBLISH
BEGIN:VEVENT
DTSTAMP:20260425T110544Z
DTSTART;VALUE=DATE:20191124
DTEND;VALUE=DATE:20191125
TRANSP:TRANSPARENT
PRIORITY:0
SUMMARY:HS Senior Trip
LOCATION:AWAY--
DESCRIPTION:Groups:\nGrade 12\n\nSchools:\nAthletics\nBoard Office\nElemen
 tary School (IHES)\nHigh School (IHHS)\nMiddle School (IHMS)\nPrimary Scho
 ol (IHPS)\n\nLocation:\nAWAY--\n\n
URL;VALUE=URI:http://indianhill.tandem.co/index.php?type=view&action=event
 &id=42148
CREATED:20190610T180740Z
LAST-MODIFIED:20190610T180740Z
UID:event-42148-indianhill@intand.com
END:VEVENT
END:VCALENDAR
