BEGIN:VCALENDAR
VERSION:2.0
PRODID:-//Intand Corporation//Tandem//EN
METHOD:PUBLISH
BEGIN:VEVENT
DTSTAMP:20260425T110322Z
DTSTART:20200307T180000Z
DTEND:20200307T210000Z
TRANSP:TRANSPARENT
PRIORITY:0
SUMMARY:Overtures Finals Competition
LOCATION:TBD
DESCRIPTION:Groups:\nUnspecified\n\nSchools:\nBoard Office\nElementary Sch
 ool (IHES)\nHigh School (IHHS)\nMiddle School (IHMS)\nPrimary School (IHPS
 )\nAthletics\n\nLocation:\nTBD\n\n
URL;VALUE=URI:http://indianhill.tandem.co/index.php?type=view&action=event
 &id=42267
CREATED:20190611T191149Z
LAST-MODIFIED:20190611T191149Z
UID:event-42267-indianhill@intand.com
END:VEVENT
END:VCALENDAR
