BEGIN:VCALENDAR
VERSION:2.0
PRODID:-//Intand Corporation//Tandem//EN
METHOD:PUBLISH
BEGIN:VEVENT
DTSTAMP:20260425T105505Z
DTSTART;VALUE=DATE:20200318
DTEND;VALUE=DATE:20200319
TRANSP:TRANSPARENT
PRIORITY:0
SUMMARY:[Cancelled] HS Los Angeles Trip - Choirs/Orchestra
LOCATION:AWAY--
DESCRIPTION:Schools:\nAthletics\nBoard Office\nElementary School (IHES)\nH
 igh School (IHHS)\nMiddle School (IHMS)\nPrimary School (IHPS)\n\nLocation
 :\nAWAY--\n\n
URL;VALUE=URI:http://indianhill.tandem.co/index.php?type=view&action=event
 &id=42288
CREATED:20190611T193837Z
LAST-MODIFIED:20200312T144850Z
UID:event-42288-indianhill@intand.com
END:VEVENT
END:VCALENDAR
