BEGIN:VCALENDAR
VERSION:2.0
PRODID:-//Intand Corporation//Tandem//EN
METHOD:PUBLISH
BEGIN:VEVENT
DTSTAMP:20260425T105644Z
DTSTART:20190808T220000Z
DTEND:20190809T000000Z
TRANSP:TRANSPARENT
PRIORITY:0
SUMMARY:Girls Soccer Parent/Player Meeting
LOCATION:ES Cafeteria\, ES
DESCRIPTION:Groups:\nHS Athlete Parents\n\nSchools:\nElementary School (IH
 ES)\nAthletics\n\nLocations:\nES Cafeteria\nES\n\n
URL;VALUE=URI:http://indianhill.tandem.co/index.php?type=view&action=event
 &id=42542
CREATED:20190724T140250Z
LAST-MODIFIED:20190724T140250Z
UID:event-42542-indianhill@intand.com
END:VEVENT
END:VCALENDAR
