BEGIN:VCALENDAR
VERSION:2.0
PRODID:-//Intand Corporation//Tandem//EN
METHOD:PUBLISH
BEGIN:VEVENT
DTSTAMP:20260425T104359Z
DTSTART:20190905T193000Z
DTEND:20190906T013000Z
TRANSP:TRANSPARENT
PRIORITY:0
SUMMARY:[Cancelled] IH Recreation Commission Youth Football Scrimmage
LOCATION:Tomahawk Stadium
DESCRIPTION:Groups:\nES Indian Hill Recreation Commission Basketball\n\nSc
 hools:\nPrimary School (IHPS)\nMiddle School (IHMS)\nHigh School (IHHS)\nE
 lementary School (IHES)\nBoard Office\nAthletics\n\nLocation:\nTomahawk St
 adium\n\nContacts:\nAndy Roeder\n\nIH Recreation Commission Youth Football
 .  Use of field approved by Matt Haskamp.\n\n \n\n
URL;VALUE=URI:http://indianhill.tandem.co/index.php?type=view&action=event
 &id=43018
CREATED:20190820T145446Z
LAST-MODIFIED:20190916T132952Z
UID:event-43018-indianhill@intand.com
END:VEVENT
END:VCALENDAR
