BEGIN:VCALENDAR
VERSION:2.0
PRODID:-//Intand Corporation//Tandem//EN
METHOD:PUBLISH
BEGIN:VEVENT
DTSTAMP:20260425T104359Z
DTSTART:20190926T193000Z
DTEND:20190926T203000Z
TRANSP:TRANSPARENT
PRIORITY:0
SUMMARY:PS PTO Young Rembrandts - Fall Session
LOCATION:PS Cafeteria
DESCRIPTION:Groups:\nPS Young Rembrandts\n\nSchools:\nPrimary School (IHPS
 )\n\nLocation:\nPS Cafeteria\n\nFacilities Request Form on file.  Approved
  by Mr. Nichols 08/09/19.\n\n
URL;VALUE=URI:http://indianhill.tandem.co/index.php?type=view&action=event
 &id=43585
CREATED:20190827T151244Z
LAST-MODIFIED:20190827T155119Z
UID:event-43585-indianhill@intand.com
END:VEVENT
END:VCALENDAR
