BEGIN:VCALENDAR
VERSION:2.0
PRODID:-//Intand Corporation//Tandem//EN
METHOD:PUBLISH
BEGIN:VEVENT
DTSTAMP:20260425T104322Z
DTSTART:20200128T195000Z
DTEND:20200128T204000Z
TRANSP:TRANSPARENT
PRIORITY:0
SUMMARY:MS Yearbook Club
LOCATION:Middle School (IHMS)
DESCRIPTION:Groups:\nMS Yearbook Club\n\nSchools:\nMiddle School (IHMS)\n\
 nLocation:\nMiddle School (IHMS)\n\nContacts:\nNicole Zistler\n\nMeetings 
 are in Room # 100\n\n
URL;VALUE=URI:http://indianhill.tandem.co/index.php?type=view&action=event
 &id=43751
CREATED:20190904T173605Z
LAST-MODIFIED:20190904T173605Z
UID:event-43751-indianhill@intand.com
END:VEVENT
END:VCALENDAR
