BEGIN:VCALENDAR
VERSION:2.0
PRODID:-//Intand Corporation//Tandem//EN
METHOD:PUBLISH
BEGIN:VEVENT
DTSTAMP:20260425T104516Z
DTSTART:20200305T195000Z
DTEND:20200305T210000Z
TRANSP:TRANSPARENT
PRIORITY:0
SUMMARY:MS Robotics Club
LOCATION:Middle School (IHMS)
DESCRIPTION:Meetings held in Mr. Schutlz's room # 202.\n\nGroups:\nRobotic
 s Club Grades 7 and 8\n\nSchools:\nMiddle School (IHMS)\n\nLocation:\nMidd
 le School (IHMS)\n\n
URL;VALUE=URI:http://indianhill.tandem.co/index.php?type=view&action=event
 &id=43911
CREATED:20190913T190851Z
LAST-MODIFIED:20190913T190851Z
UID:event-43911-indianhill@intand.com
END:VEVENT
END:VCALENDAR
