BEGIN:VCALENDAR
VERSION:2.0
PRODID:-//Intand Corporation//Tandem//EN
METHOD:PUBLISH
BEGIN:VEVENT
DTSTAMP:20260425T104527Z
DTSTART:20191213T210000Z
DTEND:20191213T230000Z
TRANSP:TRANSPARENT
PRIORITY:0
SUMMARY:ES Indian Hill Recreation Commission Basketball Practice
LOCATION:ES Gym
DESCRIPTION:Groups:\nES Indian Hill Recreation Commission Basketball\n\nLo
 cation:\nES Gym\n\nDates okay for use per Black Out date exclusions via em
 ail from Ms. Hofrichter / IHES 10/15/19.\n\n
URL;VALUE=URI:http://indianhill.tandem.co/index.php?type=view&action=event
 &id=44323
CREATED:20191030T191729Z
LAST-MODIFIED:20191119T145615Z
UID:event-44323-indianhill@intand.com
END:VEVENT
END:VCALENDAR
