BEGIN:VCALENDAR
VERSION:2.0
PRODID:-//Intand Corporation//Tandem//EN
METHOD:PUBLISH
BEGIN:VEVENT
DTSTAMP:20260425T110420Z
DTSTART:20200228T210000Z
DTEND:20200228T230000Z
TRANSP:TRANSPARENT
PRIORITY:0
SUMMARY:ES Indian Hill Recreation Commission Basketball Practice
LOCATION:ES Gym
DESCRIPTION:Groups:\nES Indian Hill Recreation Commission Basketball\n\nLo
 cation:\nES Gym\n\nOkay per Black Out exclusion dates via Ms. Hofrichter /
  IHES\n\n
URL;VALUE=URI:http://indianhill.tandem.co/index.php?type=view&action=event
 &id=44373
CREATED:20191030T193007Z
LAST-MODIFIED:20191111T135505Z
UID:event-44373-indianhill@intand.com
END:VEVENT
END:VCALENDAR
